BEGIN:VCALENDAR
VERSION:2.0
PRODID:-//Scleroderma - ECPv4.6.11.1//NONSGML v1.0//EN
CALSCALE:GREGORIAN
METHOD:PUBLISH
X-WR-CALNAME:Scleroderma
X-ORIGINAL-URL:http://scleroderma.org.nz
X-WR-CALDESC:Events for Scleroderma
BEGIN:VEVENT
DTSTART;TZID=Pacific/Auckland:20250920T140000
DTEND;TZID=Pacific/Auckland:20250920T160000
DTSTAMP:20260421T145001
CREATED:20241211T065247Z
LAST-MODIFIED:20250904T013920Z
UID:1566-1758376800-1758384000@scleroderma.org.nz
SUMMARY:Christchurch support group September 2025
DESCRIPTION:We welcome any new members to come along.\nPlease contact Nicky Moore if you would like to join in:\nnicky.moore@xtra.co.nz Phone: 021 110 6123 \n
URL:http://scleroderma.org.nz/event/christchurch-support-group-september-2025/
LOCATION:Oderings\, Cashmere\, Christchurch
CATEGORIES:Christchurch,Support group meeting
ORGANIZER;CN="Nicky%20Moore":MAILTO:nicky.moore@xtra.co.nz
END:VEVENT
END:VCALENDAR