BEGIN:VCALENDAR
VERSION:2.0
PRODID:-//Scleroderma - ECPv4.6.11.1//NONSGML v1.0//EN
CALSCALE:GREGORIAN
METHOD:PUBLISH
X-WR-CALNAME:Scleroderma
X-ORIGINAL-URL:http://scleroderma.org.nz
X-WR-CALDESC:Events for Scleroderma
BEGIN:VEVENT
DTSTART;TZID=Pacific/Auckland:20251130T120000
DTEND;TZID=Pacific/Auckland:20251130T120000
DTSTAMP:20260419T144102
CREATED:20250624T075200Z
LAST-MODIFIED:20250904T013128Z
UID:1837-1764504000-1764504000@scleroderma.org.nz
SUMMARY:Southland support group November 2025
DESCRIPTION:Please contact Heather if you wish to join us.\n milliganseeds@xtra.co.nz \n
URL:http://scleroderma.org.nz/event/southland-support-group-november-2025-2/
LOCATION:100 Waimea Street\, Croydon\, Gore\, New Zealand
END:VEVENT
END:VCALENDAR