BEGIN:VCALENDAR
VERSION:2.0
PRODID:-//Scleroderma - ECPv4.6.11.1//NONSGML v1.0//EN
CALSCALE:GREGORIAN
METHOD:PUBLISH
X-WR-CALNAME:Scleroderma
X-ORIGINAL-URL:http://scleroderma.org.nz
X-WR-CALDESC:Events for Scleroderma
BEGIN:VEVENT
DTSTART;TZID=Pacific/Auckland:20250719T120000
DTEND;TZID=Pacific/Auckland:20250719T140000
DTSTAMP:20260421T105154
CREATED:20241211T045137Z
LAST-MODIFIED:20250531T080355Z
UID:1549-1752926400-1752933600@scleroderma.org.nz
SUMMARY:Wellington / Kapiti and Wairarapa support group July 2025
DESCRIPTION:We welcome any new members to come along. \nThe cafe has asked for numbers to be advised to them by Monday\, 14 July. \nIf you would like to join us\, please contact: \nFiona Yaxley \nPhone: 027-273-9399 \nfiona.gilloch@xtra.co.nz \n
URL:http://scleroderma.org.nz/event/wellington-kapiti-and-wairarapa-support-group-3/
LOCATION:The Hub\, 74-76 Main Street\, Greytown\, New Zealand
CATEGORIES:Kapiti,Support group meeting,Wairapara,Wellington
ORGANIZER;CN="Fiona%20Yaxley":MAILTO:fiona.gilloch@xtra.co.nz
END:VEVENT
END:VCALENDAR